BEGIN:VCALENDAR
VERSION:2.0
PRODID:-//https://afpl.lu///NONSGML kigkonsult.se iCalcreator 2.10.15//
METHOD:PUBLISH
BEGIN:VEVENT
UID:20260424T210024UTC-0777mTi1z4@https://afpl.lu/
DTSTAMP:20260424T210024Z
DESCRIPTION:{module title='JDPL 4 de-DE'} https://afpl.lu/component/rsevent
 spro/evenement/98-5es-journees-de-la-psychose-jour-4?Itemid=101
DTSTART:20210318T173000Z
DTEND:20210318T190000Z
LOCATION:Conférence Web ()
SUMMARY:5es Journées de la Psychose - Jour 4
URL:https://afpl.lu/component/rseventspro/evenement/98-5es-journees-de-la-p
 sychose-jour-4?Itemid=101
END:VEVENT
BEGIN:VEVENT
UID:20260424T210024UTC-0779CZ26dW@https://afpl.lu/
DTSTAMP:20260424T210024Z
DESCRIPTION:{module title='JDPL 2 en-GB'} https://afpl.lu/component/rsevent
 spro/evenement/99-5es-journees-de-la-psychose-jour-2?Itemid=101
DTSTART:20210316T173000Z
DTEND:20210316T190000Z
LOCATION:Conférence Web ()
SUMMARY:5es Journées de la Psychose - Jour 2
URL:https://afpl.lu/component/rseventspro/evenement/99-5es-journees-de-la-p
 sychose-jour-2?Itemid=101
END:VEVENT
BEGIN:VEVENT
UID:20260424T210024UTC-0780JMHWFi@https://afpl.lu/
DTSTAMP:20260424T210024Z
DESCRIPTION:Présentation du service SPAD - Soins psychiatriques à domicile
 \nConférencier : Bob BAUER - Infirmier psychiatrique\, Responsable du serv
 ice SPAD\nConférence en luxembourgeois ou français\n{module Comment assist
 er à un évenement}\n{module FAQ Events} https://afpl.lu/component/rsevents
 pro/evenement/101-5es-journees-de-la-psychose-jour-1?Itemid=101
DTSTART:20210315T173000Z
DTEND:20210315T190000Z
LOCATION:Conférence Web ()
SUMMARY:5es Journées de la Psychose - Jour 1
URL:https://afpl.lu/component/rseventspro/evenement/101-5es-journees-de-la-
 psychose-jour-1?Itemid=101
END:VEVENT
BEGIN:VEVENT
UID:20260424T210024UTC-0781TibOfl@https://afpl.lu/
DTSTAMP:20260424T210024Z
DESCRIPTION:{module title='JDPL Jour 3'} https://afpl.lu/component/rsevents
 pro/evenement/102-5es-journees-de-la-psychose-jour-3?Itemid=101
DTSTART:20210317T173000Z
DTEND:20210317T190000Z
LOCATION:Conférence Web ()
SUMMARY:5es Journées de la Psychose - Jour 3
URL:https://afpl.lu/component/rseventspro/evenement/102-5es-journees-de-la-
 psychose-jour-3?Itemid=101
END:VEVENT
BEGIN:VEVENT
UID:20260424T210024UTC-0782dcc2dn@https://afpl.lu/
DTSTAMP:20260424T210024Z
DESCRIPTION:{module title='JDPL Jour 1'} https://afpl.lu/component/rsevents
 pro/evenement/103-5es-journees-de-la-psychose-jour-1?Itemid=101
DTSTART:20210315T173000Z
DTEND:20210315T190000Z
LOCATION:Conférence Web ()
SUMMARY:5es Journées de la Psychose - Jour 1
URL:https://afpl.lu/component/rseventspro/evenement/103-5es-journees-de-la-
 psychose-jour-1?Itemid=101
END:VEVENT
BEGIN:VEVENT
UID:20260424T210024UTC-07836FBXtO@https://afpl.lu/
DTSTAMP:20260424T210024Z
DESCRIPTION:{module title='JDPL 2 fr-FR'}\n&nbsp\; https://afpl.lu/componen
 t/rseventspro/evenement/105-5es-journees-de-la-psychose-jour-2?Itemid=101
DTSTART:20210316T173000Z
DTEND:20210316T190000Z
LOCATION:Conférence Web ()
SUMMARY:5es Journées de la Psychose - Jour 2
URL:https://afpl.lu/component/rseventspro/evenement/105-5es-journees-de-la-
 psychose-jour-2?Itemid=101
END:VEVENT
BEGIN:VEVENT
UID:20260424T210024UTC-0784oa9FTN@https://afpl.lu/
DTSTAMP:20260424T210024Z
DESCRIPTION:{module title='JDPL 4 fr-FR'} https://afpl.lu/component/rsevent
 spro/evenement/106-5es-journees-de-la-psychose-jour-4?Itemid=101
DTSTART:20210318T173000Z
DTEND:20210318T190000Z
LOCATION:Conférence Web ()
SUMMARY:5es Journées de la Psychose - Jour 4
URL:https://afpl.lu/component/rseventspro/evenement/106-5es-journees-de-la-
 psychose-jour-4?Itemid=101
END:VEVENT
BEGIN:VEVENT
UID:20260424T210024UTC-0785gMzUvt@https://afpl.lu/
DTSTAMP:20260424T210024Z
DESCRIPTION:\nRéservée aux membres 2020 à jour de cotisation.\n https://afp
 l.lu/component/rseventspro/evenement/107-afpl-assemblee-generale-sur-lexer
 cice-2020?Itemid=101
DTSTART:20210427T163000Z
DTEND:20210427T180000Z
LOCATION:Conférence Web ()
SUMMARY:AFPL Assemblée générale sur l'exercice 2020
URL:https://afpl.lu/component/rseventspro/evenement/107-afpl-assemblee-gene
 rale-sur-lexercice-2020?Itemid=101
END:VEVENT
BEGIN:VEVENT
UID:20260424T210024UTC-1016lrcB9v@https://afpl.lu/
DTSTAMP:20260424T210024Z
DESCRIPTION:{article title='Journée Mondiale de la Santé Mentale 2021'}{/ar
 ticle} https://afpl.lu/component/rseventspro/evenement/108-journee-mondial
 e-de-la-sante-mentale-konferenz-vom-anfang-und-ende-der-schizophrenie-la-s
 chizophrenie-son-commencement-et-sa-fin?Itemid=101
DTSTART:20211006T163000Z
DTEND:20211006T180000Z
LOCATION:Conférence Web ()
SUMMARY:Journée Mondiale de la Santé Mentale: Konferenz - Vom Anfang und En
 de der Schizophrenie (La schizophrénie : son commencement et sa fin)
URL:https://afpl.lu/component/rseventspro/evenement/108-journee-mondiale-de
 -la-sante-mentale-konferenz-vom-anfang-und-ende-der-schizophrenie-la-schiz
 ophrenie-son-commencement-et-sa-fin?Itemid=101
END:VEVENT
BEGIN:VEVENT
UID:20260424T210024UTC-1018tD8K79@https://afpl.lu/
DTSTAMP:20260424T210024Z
DESCRIPTION:{article title='Janine Berg-Peer'}{/article} https://afpl.lu/co
 mponent/rseventspro/evenement/110-tag-1-jour-1-aufopfern-ist-keine-loesung
 -se-sacrifier-nest-pas-la-solution?Itemid=101
DTSTART:20220419T163000Z
DTEND:20220419T180000Z
LOCATION:Conférence Web ()
SUMMARY:Tag 1/Jour 1: „Aufopfern ist keine Lösung”  |  « Se sacrifier n’est
  pas la solution »
URL:https://afpl.lu/component/rseventspro/evenement/110-tag-1-jour-1-aufopf
 ern-ist-keine-loesung-se-sacrifier-nest-pas-la-solution?Itemid=101
END:VEVENT
BEGIN:VEVENT
UID:20260424T210024UTC-1018tAV2k7@https://afpl.lu/
DTSTAMP:20260424T210024Z
DESCRIPTION:{article title='Sacha Bachim'}{/article} https://afpl.lu/compon
 ent/rseventspro/evenement/111-resilienz-to-go-stressprevention-im-alltag-r
 esilience-a-emporter-prevenir-le-stress-au-quotidien?Itemid=101
DTSTART:20230320T173000Z
DTEND:20230320T190000Z
LOCATION: A Schommesch - Centre polyvalent\, 18 rue d‘Ernster\, 6977 Oberan
 ven (A Schommesch - Centre polyvalent\, 18 rue d‘Ernster\, 6977 Oberanven)
SUMMARY:„Resilienz to go - Stressprevention im Alltag”  |  « Résilience à e
 mporter - Prévenir le stress au quotidien »
URL:https://afpl.lu/component/rseventspro/evenement/111-resilienz-to-go-str
 essprevention-im-alltag-resilience-a-emporter-prevenir-le-stress-au-quotid
 ien?Itemid=101
END:VEVENT
BEGIN:VEVENT
UID:20260424T210024UTC-1020vWibAI@https://afpl.lu/
DTSTAMP:20260424T210024Z
DESCRIPTION:{article title='Luc De Bry'}{/article} https://afpl.lu/componen
 t/rseventspro/evenement/112-jour-3-introduction-a-open-dialogue?Itemid=101
DTSTART:20220425T163000Z
DTEND:20220425T180000Z
LOCATION:Conférence Web ()
SUMMARY:Jour 3 : Introduction à « Open Dialogue »
URL:https://afpl.lu/component/rseventspro/evenement/112-jour-3-introduction
 -a-open-dialogue?Itemid=101
END:VEVENT
BEGIN:VEVENT
UID:20260424T210024UTC-10201x4mdR@https://afpl.lu/
DTSTAMP:20260424T210024Z
DESCRIPTION:{article title='Réseau Psy'}{/article} https://afpl.lu/componen
 t/rseventspro/evenement/115-presentation-de-lasbl-reseau-psy-psychesch-hel
 lef-dobaussen?Itemid=101
DTSTART:20230322T173000Z
DTEND:20230322T190000Z
LOCATION: Hôtel de Ville\, 1er étage (Hôtel de Ville\, 1er étage\, Esch-sur
 -Alzette)
SUMMARY:Présentation de l’asbl « Réseau Psy - Psychesch Hëllef Dobaussen » 
URL:https://afpl.lu/component/rseventspro/evenement/115-presentation-de-las
 bl-reseau-psy-psychesch-hellef-dobaussen?Itemid=101
END:VEVENT
BEGIN:VEVENT
UID:20260424T210024UTC-1021ChginD@https://afpl.lu/
DTSTAMP:20260424T210024Z
DESCRIPTION:{article title='Dr Morabito'}{/article} https://afpl.lu/compone
 nt/rseventspro/evenement/116-prise-en-charge-des-patients-et-soutien-des-m
 embres-de-la-famille?Itemid=101
DTSTART:20230323T173000Z
DTEND:20230323T190000Z
LOCATION:Mutferter Haff (Mutferter Haff 12\, um Kinert\,  L - 5334 Moutfort
 )
SUMMARY:« Prise en charge des patients et soutien des membres de la famille
  » 
URL:https://afpl.lu/component/rseventspro/evenement/116-prise-en-charge-des
 -patients-et-soutien-des-membres-de-la-famille?Itemid=101
END:VEVENT
BEGIN:VEVENT
UID:20260424T210024UTC-1022Sdt65C@https://afpl.lu/
DTSTAMP:20260424T210024Z
DESCRIPTION: https://afpl.lu/component/rseventspro/evenement/117-la-de-pres
 cription-progressive-des-medicaments-dans-la-schizophrenie?Itemid=101
DTSTART:20240318T173000Z
DTEND:20240318T190000Z
LOCATION:Novotel Kirchberg\, 6 rue du Fort Niedergrünewald\, L-2226 Luxembo
 urg (Novotel Kirchberg\, 6 rue du Fort Niedergrünewald\, L-2226 Luxembourg
 )
SUMMARY:La dé-prescription progressive des médicaments dans la schizophréni
 e
URL:https://afpl.lu/component/rseventspro/evenement/117-la-de-prescription-
 progressive-des-medicaments-dans-la-schizophrenie?Itemid=101
END:VEVENT
BEGIN:VEVENT
UID:20260424T210024UTC-1023E4ga3n@https://afpl.lu/
DTSTAMP:20260424T210024Z
DESCRIPTION: https://afpl.lu/component/rseventspro/evenement/118-psychose-e
 insamkeit-und-suizidalitaet?Itemid=101
DTSTART:20240321T173000Z
DTEND:20240321T190000Z
LOCATION:Festsaal Edmond Dune\, Centre Hospitalier Neuro-Psychiatrique\, 17
  avenue des Alliés\, L-9012 Ettelbruck (Festsaal Edmond Dune\, Centre Hosp
 italier Neuro-Psychiatrique\, 17 avenue des Alliés\, L-9012 Ettelbruck)
SUMMARY:Psychose\, Einsamkeit und Suizidalität
URL:https://afpl.lu/component/rseventspro/evenement/118-psychose-einsamkeit
 -und-suizidalitaet?Itemid=101
END:VEVENT
BEGIN:VEVENT
UID:20260424T210024UTC-1024UIWC8p@https://afpl.lu/
DTSTAMP:20260424T210024Z
DESCRIPTION: https://afpl.lu/component/rseventspro/evenement/119-die-uebers
 ehenen-geschwister-psychisch-kranker-kinder?Itemid=101
DTSTART:20240322T173000Z
DTEND:20240322T190000Z
LOCATION:Die übersehenen Geschwister psychisch kranker Kinder  (Die überseh
 enen Geschwister psychisch kranker Kinder )
SUMMARY:Die übersehenen Geschwister psychisch kranker Kinder 
URL:https://afpl.lu/component/rseventspro/evenement/119-die-uebersehenen-ge
 schwister-psychisch-kranker-kinder?Itemid=101
END:VEVENT
BEGIN:VEVENT
UID:20260424T210024UTC-1024ENn6GX@https://afpl.lu/
DTSTAMP:20260424T210024Z
DESCRIPTION:{EventDescription} https://afpl.lu/component/rseventspro/evenem
 ent/120-drechter-an-dflichte-vum-patient-dag-3?Itemid=101
DTSTART:20250320T173000Z
DTEND:20250320T190000Z
LOCATION:Centre culturel Dommeldange - Menuiserie Drescherhaus\, 26a\, rue 
 du Château. L-1329 Luxembourg ()
SUMMARY:D’Rechter an d’Flichte vum Patient - Dag 3 
URL:https://afpl.lu/component/rseventspro/evenement/120-drechter-an-dflicht
 e-vum-patient-dag-3?Itemid=101
END:VEVENT
BEGIN:VEVENT
UID:20260424T210024UTC-1026D45VUn@https://afpl.lu/
DTSTAMP:20260424T210024Z
DESCRIPTION:{EventDescription} https://afpl.lu/component/rseventspro/evenem
 ent/121-liewen-dobaussen-dag-1?Itemid=101
DTSTART:20250318T173000Z
DTEND:20250318T190000Z
LOCATION:Däichhal\, 1. Stack    4\, rue du Deich L-9012 Ettelbréck ()
SUMMARY:Liewen Dobaussen -  Dag 1
URL:https://afpl.lu/component/rseventspro/evenement/121-liewen-dobaussen-da
 g-1?Itemid=101
END:VEVENT
BEGIN:VEVENT
UID:20260424T210024UTC-1027zzvJip@https://afpl.lu/
DTSTAMP:20260424T210024Z
DESCRIPTION:{EventDescription} https://afpl.lu/component/rseventspro/evenem
 ent/122-repenser-la-schizophrenie-et-lavenir-de-la-psychiatrie?Itemid=101
DTSTART:20250319T173000Z
DTEND:20250319T190000Z
LOCATION:Videoconference ()
SUMMARY:Repenser la schizophrénie et l'avenir de la psychiatrie
URL:https://afpl.lu/component/rseventspro/evenement/122-repenser-la-schizop
 hrenie-et-lavenir-de-la-psychiatrie?Itemid=101
END:VEVENT
END:VCALENDAR
