BEGIN:VCALENDAR
VERSION:2.0
PRODID:-//https://afpl.lu///NONSGML kigkonsult.se iCalcreator 2.10.15//
METHOD:PUBLISH
BEGIN:VEVENT
UID:20260424T223646UTC-2477GUzUF2@https://afpl.lu/
DTSTAMP:20260424T223646Z
DESCRIPTION:Présentation du service SPAD - Soins psychiatriques à domicile
 \nConférencier : Bob BAUER - Infirmier psychiatrique\, Responsable du serv
 ice SPAD\nConférence en luxembourgeois ou français\n{module Comment assist
 er à un évenement}\n{module FAQ Events} https://afpl.lu/component/rsevents
 pro/evenement/101-5es-journees-de-la-psychose-jour-1?Itemid=101
DTSTART:20210315T173000Z
DTEND:20210315T190000Z
LOCATION:Conférence Web ()
SUMMARY:5es Journées de la Psychose - Jour 1
URL:https://afpl.lu/component/rseventspro/evenement/101-5es-journees-de-la-
 psychose-jour-1?Itemid=101
END:VEVENT
END:VCALENDAR
