BEGIN:VCALENDAR
VERSION:2.0
PRODID:-//https://afpl.lu///NONSGML kigkonsult.se iCalcreator 2.10.15//
METHOD:PUBLISH
BEGIN:VEVENT
UID:20260424T224401UTC-9922RKTXFk@https://afpl.lu/
DTSTAMP:20260424T224401Z
DESCRIPTION:\nRéservée aux membres 2020 à jour de cotisation.\n https://afp
 l.lu/component/rseventspro/evenement/107-afpl-assemblee-generale-sur-lexer
 cice-2020?Itemid=101
DTSTART:20210427T163000Z
DTEND:20210427T180000Z
LOCATION:Conférence Web ()
SUMMARY:AFPL Assemblée générale sur l'exercice 2020
URL:https://afpl.lu/component/rseventspro/evenement/107-afpl-assemblee-gene
 rale-sur-lexercice-2020?Itemid=101
END:VEVENT
END:VCALENDAR
