BEGIN:VCALENDAR
VERSION:2.0
PRODID:-//https://afpl.lu///NONSGML kigkonsult.se iCalcreator 2.10.15//
METHOD:PUBLISH
BEGIN:VEVENT
UID:20260424T223708UTC-1875iCiZ57@https://afpl.lu/
DTSTAMP:20260424T223708Z
DESCRIPTION:{module title='JDPL 2 en-GB'} https://afpl.lu/component/rsevent
 spro/evenement/99-5es-journees-de-la-psychose-jour-2?Itemid=101
DTSTART:20210316T173000Z
DTEND:20210316T190000Z
LOCATION:Conférence Web ()
SUMMARY:5es Journées de la Psychose - Jour 2
URL:https://afpl.lu/component/rseventspro/evenement/99-5es-journees-de-la-p
 sychose-jour-2?Itemid=101
END:VEVENT
END:VCALENDAR
