BEGIN:VCALENDAR
VERSION:2.0
PRODID:-//https://afpl.lu/text///NONSGML kigkonsult.se iCalcreator 2.10.15//
METHOD:PUBLISH
BEGIN:VEVENT
UID:20200421T145151UTC-9058Teto0O@https://afpl.lu/text/
DTSTAMP:20200421T145151Z
DESCRIPTION:&nbsp\;\nDie Soteria - mitmenschliche Präsenz und Beleitung in 
 psychotischen Krisen\nKonferenz auf Deutsch\n\nRednerin\nChristine Clare i
 st ursprünglich Kindergärtnerin und Landwirtin und hat viele Jahre auf ein
 em Bauernhof mit Menschen mit jungen Menschen in belasteten Lebenssituatio
 nen gelebt\, bevor sie 2002 in der Soteria Bern als sogenannte Laienmitarb
 eitende zu arbeiten begann. Seither ist sie einerseits direkt in der Begle
 itung der jungen Menschen in einer akuten Psychose tätig\, andererseits is
 t sie auch stellvertretende Betriebsleiterin. Die Zusammenarbeit mit Angeh
 örigen sowie die Öffentlichkeitsarbeit sind ihr eine Herzensangelegenheit.
 \nSie lebt mit ihrer Familie in den Schweizer Bergen.\nBeschreibung\nDie S
 oteria Bern bietet seit 35 Jahren jungen Menschen in einer akuten Psychose
  eine mitmenschliche Begleitung im offenen Rahmen an. Die Soteria ist ein 
 älteres Haus mit einem grossen Garten mitten in Bern\, in der stationären 
 Behandlung gibt es Platz für 10 junge Menschen.\nDie erste Phase der Behan
 dlung findet im sogenannt weichen Zimmer statt\, dort werden durch die 1:1
  Begleitung wenn nötig rund um die Uhr Ängste reduziert\, Sicherheit und V
 ertrauen aufgebaut. Danach erfolgt die Integration in den Alltag durch die
  Milieutherapie. Die Auseinandersetzung mit der Lebenssituation ist ein ze
 ntrales Element der Behandlung\, der Einbezug der Angehörigen ist von zent
 raler Bedeutung.\nFrau Clare wird aus dem praktischen Alltag berichten\, s
 owie von Begegnungen mit den Angehörigen.\nAllgemeine Öffentlichkeit.\nOrt
  Hôtel Novotel Kirchberg\n{module Comment assister à un évenement}\n{modul
 e FAQ Events} https://afpl.lu/text/index.php/activites/evenements-anterieu
 rs/evenement/7-journees-de-la-psychose-jour-1-annule
DTSTART:20200316T173000Z
DTEND:20200316T200000Z
LOCATION:Hôtel Novotel Kirchberg (Quartier Européen Nord\, 6 Rue du Fort Ni
 edergruenewald\, L-2226 Luxembourg)
SUMMARY:Journées de la psychose - Jour 1 -  ANNULÉ
URL:https://afpl.lu/text/index.php/activites/evenements-anterieurs/evenemen
 t/7-journees-de-la-psychose-jour-1-annule
END:VEVENT
END:VCALENDAR
