BEGIN:VCALENDAR
VERSION:2.0
PRODID:-//https://afpl.lu/text///NONSGML kigkonsult.se iCalcreator 2.10.15//
METHOD:PUBLISH
BEGIN:VEVENT
UID:20200421T145145UTC-3331v1g8LA@https://afpl.lu/text/
DTSTAMP:20200421T145145Z
DESCRIPTION:Apport des neurosciences à la compréhension des psychoses\nConf
 érence en français\n&nbsp\;\nConférencier\nProfesseur Eric Constant (B)\, 
 Directeur médical à la Clinique Notre-Dame des Anges (B-Liège)\, Institute
  of Neurosciences UCL\, membre de l’Académie Royale de Médecine de Belgiqu
 e.\nPublic Tout public\nLieu Hôtel Novotel Kirchberg\n{module Comment assi
 ster à un évenement}\n{module FAQ Events} https://afpl.lu/text/index.php/a
 ctivites/evenements-anterieurs/evenement/70-journees-de-la-psychose-jour-2
 -annule
DTSTART:20200317T173000Z
DTEND:20200317T200000Z
LOCATION:Hôtel Novotel Kirchberg (Quartier Européen Nord\, 6 Rue du Fort Ni
 edergruenewald\, L-2226 Luxembourg)
SUMMARY:Journées de la psychose - Jour 2 -  -  ANNULÉ
URL:https://afpl.lu/text/index.php/activites/evenements-anterieurs/evenemen
 t/70-journees-de-la-psychose-jour-2-annule
END:VEVENT
END:VCALENDAR
