BEGIN:VCALENDAR
VERSION:2.0
PRODID:-//https://afpl.lu/text///NONSGML kigkonsult.se iCalcreator 2.10.15//
METHOD:PUBLISH
BEGIN:VEVENT
UID:20200421T145130UTC-3427JT5ExJ@https://afpl.lu/text/
DTSTAMP:20200421T145130Z
DESCRIPTION:Recherche en neuro-imagerie sur la schizophrénie\nConférence en
  français\n&nbsp\;\nConférencière\nTess Verneuil est étudiante en doctorat
  du NIHR Maudsley Biomedical Research Centre (BRC) à l'Institut de Psychia
 trie\, de Psychologie et de Neurosciences à King's College de Londres. Ava
 nt de commencer son doctorat\, Tess a complété une maîtrise en neuroscienc
 e et deux bachelors\, un en psychologie et un en communication.\nElle est 
 spécialisée en neuro-imagerie clinique dans les dysfonctionnements du cerv
 eau et a travaillé à l'hôpital Mount Sinai\, à Imperial College de Londres
 \, à l'Université de Californie Los Angeles (UCLA)\, à UCL\, et à King's C
 ollege de Londres. Ses travaux antérieurs sur la schizophrénie comprennent
  l'étude de modèles murins de schizophrénie et l'étude du cannabidiol comm
 e traitement d'appoint pour la schizophrénie résistante au traitement.\nSo
 n doctorat est centré sur la compréhension de la résistance au traitement 
 dans la schizophrénie en utilisant des techniques d'apprentissage automati
 que pour prédire quelles personnes répondront au traitement antipsychotiqu
 e basé sur leurs examens IRM.\n\nTexte de description\nLa présentation de 
 Tess portera sur l'évolution de la recherche en neuro-imagerie sur la schi
 zophrénie et les théories sur la résistance au traitement.\nPublic Tout pu
 blic\nLieu Hôtel Novotel Kirchberg\n{module Comment assister à un évenemen
 t}\n{module FAQ Events} https://afpl.lu/text/index.php/activites/evenement
 s-anterieurs/evenement/81-journees-de-la-psychose-jour-4-annule
DTSTART:20200320T173000Z
DTEND:20200320T200000Z
LOCATION:Hôtel Novotel Kirchberg (Quartier Européen Nord\, 6 Rue du Fort Ni
 edergruenewald\, L-2226 Luxembourg)
SUMMARY:Journées de la psychose - Jour 4 - ANNULÉ
URL:https://afpl.lu/text/index.php/activites/evenements-anterieurs/evenemen
 t/81-journees-de-la-psychose-jour-4-annule
END:VEVENT
END:VCALENDAR
