BEGIN:VCALENDAR
VERSION:2.0
PRODID:-//https://afpl.lu/text///NONSGML kigkonsult.se iCalcreator 2.10.15//
METHOD:PUBLISH
BEGIN:VEVENT
UID:20200421T145157UTC-5214IcaV3K@https://afpl.lu/text/
DTSTAMP:20200421T145157Z
DESCRIPTION: https://afpl.lu/text/index.php/activites/evenements-anterieurs
 /evenement/85-living-library-enfants-hors-normes
DTSTART:20191008T173000Z
DTEND:20191008T210000Z
LOCATION:Esch ()
SUMMARY:Living Library : Enfants 'hors normes'
URL:https://afpl.lu/text/index.php/activites/evenements-anterieurs/evenemen
 t/85-living-library-enfants-hors-normes
END:VEVENT
END:VCALENDAR
