BEGIN:VCALENDAR
VERSION:2.0
PRODID:-//https://afpl.lu/text///NONSGML kigkonsult.se iCalcreator 2.10.15//
METHOD:PUBLISH
BEGIN:VEVENT
UID:20200421T145205UTC-3432t961jn@https://afpl.lu/text/
DTSTAMP:20200421T145205Z
DESCRIPTION: https://afpl.lu/text/index.php/activites/evenements-anterieurs
 /evenement/89-3e-journees-de-la-schizophrenie-au-luxembourg
DTSTART:20190319T173000Z
DTEND:20190319T203000Z
LOCATION:CHNP Ettelbruck ()
SUMMARY:3e Journées de la Schizophrénie au Luxembourg
URL:https://afpl.lu/text/index.php/activites/evenements-anterieurs/evenemen
 t/89-3e-journees-de-la-schizophrenie-au-luxembourg
END:VEVENT
END:VCALENDAR
