BEGIN:VCALENDAR
VERSION:2.0
PRODID:-//https://afpl.lu/text///NONSGML kigkonsult.se iCalcreator 2.10.15//
METHOD:PUBLISH
BEGIN:VEVENT
UID:20200421T145208UTC-2030SWLKSX@https://afpl.lu/text/
DTSTAMP:20200421T145208Z
DESCRIPTION: https://afpl.lu/text/index.php/activites/evenements-anterieurs
 /evenement/90-3e-journees-de-la-schizophrenie-au-luxembourg
DTSTART:20190318T173000Z
DTEND:20190318T203000Z
LOCATION:Hôpitaux Robert Schuman ()
SUMMARY:3e Journées de la Schizophrénie au Luxembourg
URL:https://afpl.lu/text/index.php/activites/evenements-anterieurs/evenemen
 t/90-3e-journees-de-la-schizophrenie-au-luxembourg
END:VEVENT
END:VCALENDAR
