BEGIN:VCALENDAR
VERSION:2.0
PRODID:-//https://afpl.lu/text///NONSGML kigkonsult.se iCalcreator 2.10.15//
METHOD:PUBLISH
BEGIN:VEVENT
UID:20200421T145212UTC-2322Ux6lWr@https://afpl.lu/text/
DTSTAMP:20200421T145212Z
DESCRIPTION: https://afpl.lu/text/index.php/activites/evenements-anterieurs
 /evenement/91-psychiatrie-3-0-une-revolution-en-marche
DTSTART:20190312T183000Z
DTEND:20190312T213000Z
LOCATION:Esch ()
SUMMARY:Psychiatrie 3.0: une révolution en marche ?
URL:https://afpl.lu/text/index.php/activites/evenements-anterieurs/evenemen
 t/91-psychiatrie-3-0-une-revolution-en-marche
END:VEVENT
END:VCALENDAR
