BEGIN:VCALENDAR
VERSION:2.0
PRODID:-//https://afpl.lu/text///NONSGML kigkonsult.se iCalcreator 2.10.15//
METHOD:PUBLISH
BEGIN:VEVENT
UID:20200421T145154UTC-6477UCDl3z@https://afpl.lu/text/
DTSTAMP:20200421T145154Z
DESCRIPTION:Freies Gespräch. Fraïe Diskussioun. Discussion libre. Open disc
 ussion.Parking gratis. https://afpl.lu/text/index.php/activites/evenements
 -anterieurs/evenement/92-journees-de-la-psychose-jour-1
DTSTART:20200316T173000Z
DTEND:20200316T200000Z
LOCATION:Hôtel Novotel Kirchberg (Quartier Européen Nord\, 6 Rue du Fort Ni
 edergruenewald\, L-2226 Luxembourg)
SUMMARY:Journées de la psychose - Jour 1
URL:https://afpl.lu/text/index.php/activites/evenements-anterieurs/evenemen
 t/92-journees-de-la-psychose-jour-1
END:VEVENT
END:VCALENDAR
