BEGIN:VCALENDAR
VERSION:2.0
PRODID:-//https://afpl.lu/text///NONSGML kigkonsult.se iCalcreator 2.10.15//
METHOD:PUBLISH
BEGIN:VEVENT
UID:20200421T145142UTC-121461bC2T@https://afpl.lu/text/
DTSTAMP:20200421T145142Z
DESCRIPTION:Freies Gespräch. Fraïe Diskussioun. Discussion libre. Open disc
 ussion.Parking gratis. https://afpl.lu/text/index.php/activites/evenements
 -anterieurs/evenement/94-journees-de-la-psychose-jour-3
DTSTART:20200318T173000Z
DTEND:20200318T200000Z
LOCATION:Hôtel Novotel Kirchberg (Quartier Européen Nord\, 6 Rue du Fort Ni
 edergruenewald\, L-2226 Luxembourg)
SUMMARY:Journées de la psychose - Jour 3
URL:https://afpl.lu/text/index.php/activites/evenements-anterieurs/evenemen
 t/94-journees-de-la-psychose-jour-3
END:VEVENT
END:VCALENDAR
